BEGIN:VCALENDAR
VERSION:2.0
PRODID:icalendar-ruby
CALSCALE:GREGORIAN
METHOD:PUBLISH
BEGIN:VEVENT
DTSTAMP:20260421T193133Z
UID:15-628125@fcbc.biz
DTSTART:20260906T140000Z
DTEND:20260906T144500Z
CLASS:PUBLIC
CREATED:20260421T132250
DESCRIPTION:
LAST-MODIFIED:20260421T132250
LOCATION:
SUMMARY:Sunday School
URL;VALUE=URI:https://www.flaglercountybaptist.com/events/sunday-school/202
 6-09-06
ATTACH;FILENAME=AUd4.jpg;FMTTYPE=image/jpeg:https://dq5pwpg1q8ru0.cloudfron
 t.net/2024/09/24/22/53/02/2984f180-2e0d-40f0-a3b4-aa5875c3ba22/AUd4.jpg
END:VEVENT
END:VCALENDAR
